BEGIN:VCALENDAR
VERSION:2.0
PRODID:-//coolidgendc - ECPv6.3.5//NONSGML v1.0//EN
CALSCALE:GREGORIAN
METHOD:PUBLISH
X-ORIGINAL-URL:https://coolidgendc.org
X-WR-CALDESC:Events for coolidgendc
REFRESH-INTERVAL;VALUE=DURATION:PT1H
X-Robots-Tag:noindex
X-PUBLISHED-TTL:PT1H
BEGIN:VTIMEZONE
TZID:UTC
BEGIN:STANDARD
TZOFFSETFROM:+0000
TZOFFSETTO:+0000
TZNAME:UTC
DTSTART:20260101T000000
END:STANDARD
END:VTIMEZONE
BEGIN:VEVENT
DTSTART;TZID=UTC:20260306T080000
DTEND;TZID=UTC:20260308T170000
DTSTAMP:20260426T000105
CREATED:20251231T004042Z
LAST-MODIFIED:20251231T004042Z
UID:2163-1772784000-1772989200@coolidgendc.org
SUMMARY:6th – 8th ~ Coolidge Cotton Days
DESCRIPTION:6th – 8th ~ Coolidge Cotton Days
URL:https://coolidgendc.org/event/6th-8th-coolidge-cotton-days/
LOCATION:San Carlos Park\, Coolidge\, AZ
END:VEVENT
BEGIN:VEVENT
DTSTART;TZID=UTC:20260314T080000
DTEND;TZID=UTC:20260315T170000
DTSTAMP:20260426T000105
CREATED:20251231T004142Z
LAST-MODIFIED:20251231T004142Z
UID:2165-1773475200-1773594000@coolidgendc.org
SUMMARY:14th – 15th ~ 15 Year Church Anniversary Celebration
DESCRIPTION:15 Year Church Anniversary Celebration
URL:https://coolidgendc.org/event/14th-15th-15-year-church-anniversary-celebration/
LOCATION:Coolidge New Destiny Church\, 2050 E Coolidge Ave\, Coolidge\, AZ\, Coolidge\, 85128\, United States
END:VEVENT
BEGIN:VEVENT
DTSTART;TZID=UTC:20260321T090000
DTEND;TZID=UTC:20260321T120000
DTSTAMP:20260426T000105
CREATED:20251231T004303Z
LAST-MODIFIED:20251231T004303Z
UID:2167-1774083600-1774094400@coolidgendc.org
SUMMARY:21st ~ Prosperity Pathways and Life Fair - Community Event (9am- 12pm)
DESCRIPTION:21st ~ Prosperity Pathways and Life Fair – Community Event (9am- 12pm)
URL:https://coolidgendc.org/event/21st-prosperity-pathways-and-life-fair-community-event-9am-12pm/
END:VEVENT
BEGIN:VEVENT
DTSTART;TZID=UTC:20260329T090000
DTEND;TZID=UTC:20260329T130000
DTSTAMP:20260426T000105
CREATED:20251231T004403Z
LAST-MODIFIED:20251231T004403Z
UID:2169-1774774800-1774789200@coolidgendc.org
SUMMARY:29th ~ Seasoned Kings and Queens Sunday Service
DESCRIPTION:Seasoned Kings and Queens Sunday Service
URL:https://coolidgendc.org/event/29th-seasoned-kings-and-queens-sunday-service/
LOCATION:Coolidge New Destiny Church\, 2050 E Coolidge Ave\, Coolidge\, AZ\, Coolidge\, 85128\, United States
END:VEVENT
BEGIN:VEVENT
DTSTART;VALUE=DATE:20260331
DTEND;VALUE=DATE:20260401
DTSTAMP:20260426T000105
CREATED:20251231T004439Z
LAST-MODIFIED:20251231T004439Z
UID:2171-1774915200-1775001599@coolidgendc.org
SUMMARY:31st ~ Lady Tam’s 58th Birthday
DESCRIPTION:Lady Tam’s 58th Birthday
URL:https://coolidgendc.org/event/31st-lady-tams-58th-birthday/
END:VEVENT
END:VCALENDAR