BEGIN:VCALENDAR
VERSION:2.0
PRODID:-//coolidgendc - ECPv6.3.5//NONSGML v1.0//EN
CALSCALE:GREGORIAN
METHOD:PUBLISH
X-ORIGINAL-URL:https://coolidgendc.org
X-WR-CALDESC:Events for coolidgendc
REFRESH-INTERVAL;VALUE=DURATION:PT1H
X-Robots-Tag:noindex
X-PUBLISHED-TTL:PT1H
BEGIN:VTIMEZONE
TZID:UTC
BEGIN:STANDARD
TZOFFSETFROM:+0000
TZOFFSETTO:+0000
TZNAME:UTC
DTSTART:20240101T000000
END:STANDARD
END:VTIMEZONE
BEGIN:VEVENT
DTSTART;TZID=UTC:20241213T180000
DTEND;TZID=UTC:20241213T200000
DTSTAMP:20260426T002124
CREATED:20240712T072427Z
LAST-MODIFIED:20240712T072427Z
UID:1503-1734112800-1734120000@coolidgendc.org
SUMMARY:Christmas Light Parade
DESCRIPTION:
URL:https://coolidgendc.org/event/christmas-light-parade/
LOCATION:San Carlos Park\, Coolidge\, AZ
END:VEVENT
BEGIN:VEVENT
DTSTART;TZID=UTC:20241214T180000
DTEND;TZID=UTC:20241214T210000
DTSTAMP:20260426T002124
CREATED:20240712T072235Z
LAST-MODIFIED:20240712T082818Z
UID:1501-1734199200-1734210000@coolidgendc.org
SUMMARY:Ministry of Helps Banquet & Celebration
DESCRIPTION:
URL:https://coolidgendc.org/event/ministry-of-helps-banquet-and-celebration/
END:VEVENT
BEGIN:VEVENT
DTSTART;TZID=UTC:20241215T100000
DTEND;TZID=UTC:20241215T123000
DTSTAMP:20260426T002124
CREATED:20240712T081645Z
LAST-MODIFIED:20240712T081645Z
UID:1548-1734256800-1734265800@coolidgendc.org
SUMMARY:Millennial Sunday
DESCRIPTION:
URL:https://coolidgendc.org/event/millennial-sunday-7/
LOCATION:Coolidge New Destiny Church\, 2050 E Coolidge Ave\, Coolidge\, AZ\, Coolidge\, 85128\, United States
END:VEVENT
BEGIN:VEVENT
DTSTART;TZID=UTC:20241215T130000
DTEND;TZID=UTC:20241215T140000
DTSTAMP:20260426T002124
CREATED:20240712T072525Z
LAST-MODIFIED:20240712T072525Z
UID:1506-1734267600-1734271200@coolidgendc.org
SUMMARY:Board Members Meeting
DESCRIPTION:
URL:https://coolidgendc.org/event/board-members-meeting/
LOCATION:Coolidge New Destiny Church\, 2050 E Coolidge Ave\, Coolidge\, AZ\, Coolidge\, 85128\, United States
END:VEVENT
BEGIN:VEVENT
DTSTART;TZID=UTC:20241222T100000
DTEND;TZID=UTC:20241222T130000
DTSTAMP:20260426T002124
CREATED:20240712T072652Z
LAST-MODIFIED:20240712T072652Z
UID:1508-1734861600-1734872400@coolidgendc.org
SUMMARY:Special Christmas Sunday
DESCRIPTION:
URL:https://coolidgendc.org/event/special-christmas-sunday/
LOCATION:Coolidge New Destiny Church\, 2050 E Coolidge Ave\, Coolidge\, AZ\, Coolidge\, 85128\, United States
END:VEVENT
BEGIN:VEVENT
DTSTART;VALUE=DATE:20241225
DTEND;VALUE=DATE:20241226
DTSTAMP:20260426T002124
CREATED:20240712T072734Z
LAST-MODIFIED:20240712T072734Z
UID:1510-1735084800-1735171199@coolidgendc.org
SUMMARY:Christmas
DESCRIPTION:
URL:https://coolidgendc.org/event/christmas/
END:VEVENT
BEGIN:VEVENT
DTSTART;TZID=UTC:20241229T100000
DTEND;TZID=UTC:20241229T130000
DTSTAMP:20260426T002124
CREATED:20240712T072831Z
LAST-MODIFIED:20240712T072831Z
UID:1512-1735466400-1735477200@coolidgendc.org
SUMMARY:Seasoned Kings & Queens Sunday
DESCRIPTION:
URL:https://coolidgendc.org/event/seasoned-kings-queens-sunday/
LOCATION:Coolidge New Destiny Church\, 2050 E Coolidge Ave\, Coolidge\, AZ\, Coolidge\, 85128\, United States
END:VEVENT
BEGIN:VEVENT
DTSTART;TZID=UTC:20241231T210000
DTEND;TZID=UTC:20241231T233000
DTSTAMP:20260426T002124
CREATED:20240712T073013Z
LAST-MODIFIED:20240712T082039Z
UID:1514-1735678800-1735687800@coolidgendc.org
SUMMARY:New Year's Eve Celebration
DESCRIPTION:
URL:https://coolidgendc.org/event/new-years-eve-celebration/
LOCATION:Coolidge New Destiny Church\, 2050 E Coolidge Ave\, Coolidge\, AZ\, Coolidge\, 85128\, United States
END:VEVENT
END:VCALENDAR