BEGIN:VCALENDAR
VERSION:2.0
PRODID:-//coolidgendc - ECPv6.3.5//NONSGML v1.0//EN
CALSCALE:GREGORIAN
METHOD:PUBLISH
X-ORIGINAL-URL:https://coolidgendc.org
X-WR-CALDESC:Events for coolidgendc
REFRESH-INTERVAL;VALUE=DURATION:PT1H
X-Robots-Tag:noindex
X-PUBLISHED-TTL:PT1H
BEGIN:VTIMEZONE
TZID:UTC
BEGIN:STANDARD
TZOFFSETFROM:+0000
TZOFFSETTO:+0000
TZNAME:UTC
DTSTART:20240101T000000
END:STANDARD
END:VTIMEZONE
BEGIN:VEVENT
DTSTART;TZID=UTC:20241110T100000
DTEND;TZID=UTC:20241110T130000
DTSTAMP:20260425T223636
CREATED:20240712T071001Z
LAST-MODIFIED:20240712T071001Z
UID:1489-1731232800-1731243600@coolidgendc.org
SUMMARY:Veteran's Day Celebration
DESCRIPTION:
URL:https://coolidgendc.org/event/veterans-day-celebration/
LOCATION:Coolidge New Destiny Church\, 2050 E Coolidge Ave\, Coolidge\, AZ\, Coolidge\, 85128\, United States
END:VEVENT
BEGIN:VEVENT
DTSTART;TZID=UTC:20241117T100000
DTEND;TZID=UTC:20241117T130000
DTSTAMP:20260425T223636
CREATED:20240712T071134Z
LAST-MODIFIED:20240712T073846Z
UID:1491-1731837600-1731848400@coolidgendc.org
SUMMARY:Native American Celebration
DESCRIPTION:
URL:https://coolidgendc.org/event/native-american-celebration/
LOCATION:Coolidge New Destiny Church\, 2050 E Coolidge Ave\, Coolidge\, AZ\, Coolidge\, 85128\, United States
END:VEVENT
BEGIN:VEVENT
DTSTART;VALUE=DATE:20241123
DTEND;VALUE=DATE:20241124
DTSTAMP:20260425T223636
CREATED:20240712T071337Z
LAST-MODIFIED:20240712T073234Z
UID:1493-1732320000-1732406399@coolidgendc.org
SUMMARY:Thanksgiving Community Outreach: Turkey Giveaway
DESCRIPTION:
URL:https://coolidgendc.org/event/community-outreach-thanksgiving-turkey-giveaway/
END:VEVENT
BEGIN:VEVENT
DTSTART;TZID=UTC:20241124T100000
DTEND;TZID=UTC:20241124T130000
DTSTAMP:20260425T223636
CREATED:20240712T071621Z
LAST-MODIFIED:20240712T071621Z
UID:1495-1732442400-1732453200@coolidgendc.org
SUMMARY:Thanksgiving Sunday: Giftcard Giveaway
DESCRIPTION:
URL:https://coolidgendc.org/event/thanksgiving-sunday-giftcard-giveaway/
LOCATION:Coolidge New Destiny Church\, 2050 E Coolidge Ave\, Coolidge\, AZ\, Coolidge\, 85128\, United States
END:VEVENT
BEGIN:VEVENT
DTSTART;VALUE=DATE:20241126
DTEND;VALUE=DATE:20241127
DTSTAMP:20260425T223636
CREATED:20240712T071716Z
LAST-MODIFIED:20240712T071716Z
UID:1497-1732579200-1732665599@coolidgendc.org
SUMMARY:No Bible Study
DESCRIPTION:
URL:https://coolidgendc.org/event/no-bible-study/
END:VEVENT
BEGIN:VEVENT
DTSTART;VALUE=DATE:20241128
DTEND;VALUE=DATE:20241129
DTSTAMP:20260425T223636
CREATED:20240712T072013Z
LAST-MODIFIED:20240712T072013Z
UID:1499-1732752000-1732838399@coolidgendc.org
SUMMARY:Thanksgiving
DESCRIPTION:
URL:https://coolidgendc.org/event/thanksgiving/
END:VEVENT
END:VCALENDAR