BEGIN:VCALENDAR
VERSION:2.0
PRODID:-//coolidgendc - ECPv6.3.5//NONSGML v1.0//EN
CALSCALE:GREGORIAN
METHOD:PUBLISH
X-WR-CALNAME:coolidgendc
X-ORIGINAL-URL:https://coolidgendc.org
X-WR-CALDESC:Events for coolidgendc
REFRESH-INTERVAL;VALUE=DURATION:PT1H
X-Robots-Tag:noindex
X-PUBLISHED-TTL:PT1H
BEGIN:VTIMEZONE
TZID:UTC
BEGIN:STANDARD
TZOFFSETFROM:+0000
TZOFFSETTO:+0000
TZNAME:UTC
DTSTART:20260101T000000
END:STANDARD
END:VTIMEZONE
BEGIN:VEVENT
DTSTART;TZID=UTC:20260423T080000
DTEND;TZID=UTC:20260425T170000
DTSTAMP:20260425T210620
CREATED:20251231T004713Z
LAST-MODIFIED:20251231T004713Z
UID:2177-1776931200-1777136400@coolidgendc.org
SUMMARY:23rd – 25th ~ County-wide Revival
DESCRIPTION:23rd – 25th ~ County-wide Revival
URL:https://coolidgendc.org/event/23rd-25th-county-wide-revival/
END:VEVENT
END:VCALENDAR