BEGIN:VCALENDAR
VERSION:2.0
PRODID:-//coolidgendc - ECPv6.3.5//NONSGML v1.0//EN
CALSCALE:GREGORIAN
METHOD:PUBLISH
X-ORIGINAL-URL:https://coolidgendc.org
X-WR-CALDESC:Events for coolidgendc
REFRESH-INTERVAL;VALUE=DURATION:PT1H
X-Robots-Tag:noindex
X-PUBLISHED-TTL:PT1H
BEGIN:VTIMEZONE
TZID:UTC
BEGIN:STANDARD
TZOFFSETFROM:+0000
TZOFFSETTO:+0000
TZNAME:UTC
DTSTART:20260101T000000
END:STANDARD
END:VTIMEZONE
BEGIN:VEVENT
DTSTART;VALUE=DATE:20260201
DTEND;VALUE=DATE:20260202
DTSTAMP:20260426T033449
CREATED:20251231T003648Z
LAST-MODIFIED:20251231T003648Z
UID:2155-1769904000-1769990399@coolidgendc.org
SUMMARY:1st ~ First Fruits Sunday
DESCRIPTION:First Fruits Sunday
URL:https://coolidgendc.org/event/1st-first-fruits-sunday/
LOCATION:Coolidge New Destiny Church\, 2050 E Coolidge Ave\, Coolidge\, AZ\, Coolidge\, 85128\, United States
END:VEVENT
END:VCALENDAR