BEGIN:VCALENDAR
VERSION:2.0
PRODID:-//coolidgendc - ECPv6.3.5//NONSGML v1.0//EN
CALSCALE:GREGORIAN
METHOD:PUBLISH
X-WR-CALNAME:coolidgendc
X-ORIGINAL-URL:https://coolidgendc.org
X-WR-CALDESC:Events for coolidgendc
REFRESH-INTERVAL;VALUE=DURATION:PT1H
X-Robots-Tag:noindex
X-PUBLISHED-TTL:PT1H
BEGIN:VTIMEZONE
TZID:UTC
BEGIN:STANDARD
TZOFFSETFROM:+0000
TZOFFSETTO:+0000
TZNAME:UTC
DTSTART:20240101T000000
END:STANDARD
END:VTIMEZONE
BEGIN:VEVENT
DTSTART;TZID=UTC:20241214T180000
DTEND;TZID=UTC:20241214T210000
DTSTAMP:20260426T020036
CREATED:20240712T072235Z
LAST-MODIFIED:20240712T082818Z
UID:1501-1734199200-1734210000@coolidgendc.org
SUMMARY:Ministry of Helps Banquet & Celebration
DESCRIPTION:
URL:https://coolidgendc.org/event/ministry-of-helps-banquet-and-celebration/
END:VEVENT
END:VCALENDAR