BEGIN:VCALENDAR
VERSION:2.0
PRODID:-//coolidgendc - ECPv6.3.5//NONSGML v1.0//EN
CALSCALE:GREGORIAN
METHOD:PUBLISH
X-ORIGINAL-URL:https://coolidgendc.org
X-WR-CALDESC:Events for coolidgendc
REFRESH-INTERVAL;VALUE=DURATION:PT1H
X-Robots-Tag:noindex
X-PUBLISHED-TTL:PT1H
BEGIN:VTIMEZONE
TZID:UTC
BEGIN:STANDARD
TZOFFSETFROM:+0000
TZOFFSETTO:+0000
TZNAME:UTC
DTSTART:20240101T000000
END:STANDARD
END:VTIMEZONE
BEGIN:VEVENT
DTSTART;TZID=UTC:20241011T100000
DTEND;TZID=UTC:20241013T170000
DTSTAMP:20260425T211703
CREATED:20240712T065256Z
LAST-MODIFIED:20240712T065256Z
UID:1483-1728640800-1728838800@coolidgendc.org
SUMMARY:Calvin Coolidge Days
DESCRIPTION:
URL:https://coolidgendc.org/event/calvin-coolidge-days/
END:VEVENT
END:VCALENDAR